BEGIN:VCALENDAR
VERSION:2.0
PRODID:-//Benny Martin - ECPv4.9.9//NONSGML v1.0//EN
CALSCALE:GREGORIAN
METHOD:PUBLISH
X-WR-CALNAME:Benny Martin
X-ORIGINAL-URL:https://bennymartin.com.au
X-WR-CALDESC:Events for Benny Martin
BEGIN:VTIMEZONE
TZID:Australia/Melbourne
BEGIN:STANDARD
TZOFFSETFROM:+1100
TZOFFSETTO:+1000
TZNAME:AEST
DTSTART:20190406T160000
END:STANDARD
BEGIN:DAYLIGHT
TZOFFSETFROM:+1000
TZOFFSETTO:+1100
TZNAME:AEDT
DTSTART:20191005T160000
END:DAYLIGHT
END:VTIMEZONE
BEGIN:VEVENT
DTSTART;TZID=Australia/Melbourne:20191013T093000
DTEND;TZID=Australia/Melbourne:20191013T113000
DTSTAMP:20210228T014144
CREATED:20190707T201054Z
LAST-MODIFIED:20191003T043540Z
UID:69423-1570959000-1570966200@bennymartin.com.au
SUMMARY:Private event birthday kew
DESCRIPTION:
URL:https://bennymartin.com.au/event/private-event-birthday-kew/
END:VEVENT
END:VCALENDAR