BEGIN:VCALENDAR
VERSION:2.0
PRODID:-//Benny Martin - ECPv4.9.9//NONSGML v1.0//EN
CALSCALE:GREGORIAN
METHOD:PUBLISH
X-WR-CALNAME:Benny Martin
X-ORIGINAL-URL:https://bennymartin.com.au
X-WR-CALDESC:Events for Benny Martin
BEGIN:VTIMEZONE
TZID:Australia/Melbourne
BEGIN:STANDARD
TZOFFSETFROM:+1100
TZOFFSETTO:+1000
TZNAME:AEST
DTSTART:20200404T160000
END:STANDARD
BEGIN:DAYLIGHT
TZOFFSETFROM:+1000
TZOFFSETTO:+1100
TZNAME:AEDT
DTSTART:20201003T160000
END:DAYLIGHT
END:VTIMEZONE
BEGIN:VEVENT
DTSTART;TZID=Australia/Melbourne:20200308T150000
DTEND;TZID=Australia/Melbourne:20200308T163000
DTSTAMP:20210228T013318
CREATED:20191203T015757Z
LAST-MODIFIED:20191205T001103Z
UID:69504-1583679600-1583685000@bennymartin.com.au
SUMMARY:Wedding Ceremony Piano & Cello 8th March 2020 St Peter & Paul's Church South Melbourne time tbc
DESCRIPTION:
URL:https://bennymartin.com.au/event/wedding-ceremony-piano-cello-8th-march-2020-st-peter-pauls-church-south-melbourne-time-tbc/
LOCATION:St Peter & Paul’s Church South Melbourne\, 377 Dorcas St\, South Melbourne VIC 3205\, South Melbourne\, VIC\, 3205\, Australia
END:VEVENT
END:VCALENDAR