BEGIN:VCALENDAR
VERSION:2.0
PRODID:-//Benny Martin - ECPv4.9.9//NONSGML v1.0//EN
CALSCALE:GREGORIAN
METHOD:PUBLISH
X-WR-CALNAME:Benny Martin
X-ORIGINAL-URL:https://bennymartin.com.au
X-WR-CALDESC:Events for Benny Martin
BEGIN:VTIMEZONE
TZID:Australia/Melbourne
BEGIN:STANDARD
TZOFFSETFROM:+1100
TZOFFSETTO:+1000
TZNAME:AEST
DTSTART:20190406T160000
END:STANDARD
BEGIN:DAYLIGHT
TZOFFSETFROM:+1000
TZOFFSETTO:+1100
TZNAME:AEDT
DTSTART:20191005T160000
END:DAYLIGHT
END:VTIMEZONE
BEGIN:VEVENT
DTSTART;TZID=Australia/Melbourne:20191019T130000
DTEND;TZID=Australia/Melbourne:20191019T130000
DTSTAMP:20210228T014153
CREATED:20181211T003647Z
LAST-MODIFIED:20191003T043603Z
UID:69347-1571490000-1571490000@bennymartin.com.au
SUMMARY:Wedding Ceremony Piano & Violin- St Pauls\, Coburg
DESCRIPTION:
URL:https://bennymartin.com.au/event/wedding-ceremony-piano-violin-st-pauls-coburg/
LOCATION:St Pauls Coburg\, 562 Sydney Rd\, Coburg\, VIC\, 3058\, Australia
END:VEVENT
END:VCALENDAR