BEGIN:VCALENDAR
VERSION:2.0
PRODID:-//Benny Martin - ECPv4.9.9//NONSGML v1.0//EN
CALSCALE:GREGORIAN
METHOD:PUBLISH
X-WR-CALNAME:Benny Martin
X-ORIGINAL-URL:https://bennymartin.com.au
X-WR-CALDESC:Events for Benny Martin
BEGIN:VTIMEZONE
TZID:Australia/Melbourne
BEGIN:STANDARD
TZOFFSETFROM:+1100
TZOFFSETTO:+1000
TZNAME:AEST
DTSTART:20200404T160000
END:STANDARD
BEGIN:DAYLIGHT
TZOFFSETFROM:+1000
TZOFFSETTO:+1100
TZNAME:AEDT
DTSTART:20201003T160000
END:DAYLIGHT
END:VTIMEZONE
BEGIN:VEVENT
DTSTART;TZID=Australia/Melbourne:20200321T163000
DTEND;TZID=Australia/Melbourne:20200321T180000
DTSTAMP:20210228T013328
CREATED:20190506T143549Z
LAST-MODIFIED:20191003T043824Z
UID:69400-1584808200-1584813600@bennymartin.com.au
SUMMARY:Wedding Ceremony - Stones of the Yarra Valley
DESCRIPTION:
URL:https://bennymartin.com.au/event/wedding-ceremony-stones-yarra-valley-4/
LOCATION:Stones of the Yarra Valley\, 14 St Hubert’s Rd\, Coldstream\, VIC\, 3770\, Australia
END:VEVENT
END:VCALENDAR