BEGIN:VCALENDAR
VERSION:2.0
PRODID:-//Benny Martin - ECPv4.9.9//NONSGML v1.0//EN
CALSCALE:GREGORIAN
METHOD:PUBLISH
X-WR-CALNAME:Benny Martin
X-ORIGINAL-URL:https://bennymartin.com.au
X-WR-CALDESC:Events for Benny Martin
BEGIN:VTIMEZONE
TZID:Australia/Melbourne
BEGIN:STANDARD
TZOFFSETFROM:+1100
TZOFFSETTO:+1000
TZNAME:AEST
DTSTART:20190406T160000
END:STANDARD
BEGIN:DAYLIGHT
TZOFFSETFROM:+1000
TZOFFSETTO:+1100
TZNAME:AEDT
DTSTART:20191005T160000
END:DAYLIGHT
END:VTIMEZONE
BEGIN:VEVENT
DTSTART;TZID=Australia/Melbourne:20191006T163000
DTEND;TZID=Australia/Melbourne:20191006T180000
DTSTAMP:20210228T014135
CREATED:20190616T182744Z
LAST-MODIFIED:20191003T043510Z
UID:69413-1570379400-1570384800@bennymartin.com.au
SUMMARY:Wedding Ceremony - Stones of the Yarra Valley (Piano & Violin)
DESCRIPTION:
URL:https://bennymartin.com.au/event/wedding-ceremony-stones-yarra-valley-piano-violin/
LOCATION:Stones of the Yarra Valley\, 14 St Hubert’s Rd\, Coldstream\, VIC\, 3770\, Australia
END:VEVENT
END:VCALENDAR