BEGIN:VCALENDAR
VERSION:2.0
PRODID:-//Benny Martin - ECPv4.9.9//NONSGML v1.0//EN
CALSCALE:GREGORIAN
METHOD:PUBLISH
X-WR-CALNAME:Benny Martin
X-ORIGINAL-URL:https://bennymartin.com.au
X-WR-CALDESC:Events for Benny Martin
BEGIN:VTIMEZONE
TZID:Australia/Melbourne
BEGIN:STANDARD
TZOFFSETFROM:+1100
TZOFFSETTO:+1000
TZNAME:AEST
DTSTART:20190406T160000
END:STANDARD
BEGIN:DAYLIGHT
TZOFFSETFROM:+1000
TZOFFSETTO:+1100
TZNAME:AEDT
DTSTART:20191005T160000
END:DAYLIGHT
END:VTIMEZONE
BEGIN:VEVENT
DTSTART;TZID=Australia/Melbourne:20190610T000000
DTEND;TZID=Australia/Melbourne:20190610T010000
DTSTAMP:20210228T014104
CREATED:20190224T124102Z
LAST-MODIFIED:20190527T134912Z
UID:69368-1560124800-1560128400@bennymartin.com.au
SUMMARY:Wedding ceremony - Tatra Receptions tbc
DESCRIPTION:
URL:https://bennymartin.com.au/event/wedding-ceremony-tatra-receptions-tbc/
LOCATION:Tatra Receptions\, 1401 Mount Dandenong Tourist Road\, Mount Dandnong\, VIC\, 3767\, Australia
END:VEVENT
END:VCALENDAR