BEGIN:VCALENDAR
VERSION:2.0
PRODID:-//Benny Martin - ECPv4.9.9//NONSGML v1.0//EN
CALSCALE:GREGORIAN
METHOD:PUBLISH
X-WR-CALNAME:Benny Martin
X-ORIGINAL-URL:https://bennymartin.com.au
X-WR-CALDESC:Events for Benny Martin
BEGIN:VTIMEZONE
TZID:Australia/Melbourne
BEGIN:STANDARD
TZOFFSETFROM:+1100
TZOFFSETTO:+1000
TZNAME:AEST
DTSTART:20210403T160000
END:STANDARD
BEGIN:DAYLIGHT
TZOFFSETFROM:+1000
TZOFFSETTO:+1100
TZNAME:AEDT
DTSTART:20211002T160000
END:DAYLIGHT
END:VTIMEZONE
BEGIN:VEVENT
DTSTART;TZID=Australia/Melbourne:20210828T160000
DTEND;TZID=Australia/Melbourne:20210828T180000
DTSTAMP:20210228T001151
CREATED:20201027T234851Z
LAST-MODIFIED:20201027T234851Z
UID:69560-1630166400-1630173600@bennymartin.com.au
SUMMARY:Wedding Piano Cello Butler Lane Events time eta
DESCRIPTION:
URL:https://bennymartin.com.au/event/wedding-piano-cello-butler-lane-events-time-eta/
LOCATION:Butler Lane Events\, 2 Shelley St\, Richmond\, VIC\, 3121\, Australia
END:VEVENT
END:VCALENDAR