BEGIN:VCALENDAR
VERSION:2.0
PRODID:-//Benny Martin - ECPv4.9.9//NONSGML v1.0//EN
CALSCALE:GREGORIAN
METHOD:PUBLISH
X-WR-CALNAME:Benny Martin
X-ORIGINAL-URL:https://bennymartin.com.au
X-WR-CALDESC:Events for Benny Martin
BEGIN:VTIMEZONE
TZID:Australia/Melbourne
BEGIN:STANDARD
TZOFFSETFROM:+1100
TZOFFSETTO:+1000
TZNAME:AEST
DTSTART:20210403T160000
END:STANDARD
BEGIN:DAYLIGHT
TZOFFSETFROM:+1000
TZOFFSETTO:+1100
TZNAME:AEDT
DTSTART:20211002T160000
END:DAYLIGHT
END:VTIMEZONE
BEGIN:VEVENT
DTSTART;TZID=Australia/Melbourne:20211003T183000
DTEND;TZID=Australia/Melbourne:20211003T213000
DTSTAMP:20210228T001226
CREATED:20191119T033612Z
LAST-MODIFIED:20200512T002544Z
UID:69498-1633285800-1633296600@bennymartin.com.au
SUMMARY:Wedding Reception - The Windsor Hotel (Piano Cello and third party vocalist)
DESCRIPTION:
URL:https://bennymartin.com.au/event/wedding-reception-the-windsor-hotel-piano-cello-vocal-tbc/
LOCATION:The Windsor Hotel\, 111 Spring St\,\, Melbourne\, VIC\, 3000\, Australia
END:VEVENT
END:VCALENDAR