BEGIN:VCALENDAR
VERSION:2.0
PRODID:-//Benny Martin - ECPv6.15.18//NONSGML v1.0//EN
CALSCALE:GREGORIAN
METHOD:PUBLISH
X-WR-CALNAME:Benny Martin
X-ORIGINAL-URL:https://bennymartin.com.au
X-WR-CALDESC:Events for Benny Martin
REFRESH-INTERVAL;VALUE=DURATION:PT1H
X-Robots-Tag:noindex
X-PUBLISHED-TTL:PT1H
BEGIN:VTIMEZONE
TZID:Australia/Melbourne
BEGIN:STANDARD
TZOFFSETFROM:+1100
TZOFFSETTO:+1000
TZNAME:AEST
DTSTART:20250405T160000
END:STANDARD
BEGIN:DAYLIGHT
TZOFFSETFROM:+1000
TZOFFSETTO:+1100
TZNAME:AEDT
DTSTART:20251004T160000
END:DAYLIGHT
BEGIN:STANDARD
TZOFFSETFROM:+1100
TZOFFSETTO:+1000
TZNAME:AEST
DTSTART:20260404T160000
END:STANDARD
BEGIN:DAYLIGHT
TZOFFSETFROM:+1000
TZOFFSETTO:+1100
TZNAME:AEDT
DTSTART:20261003T160000
END:DAYLIGHT
BEGIN:STANDARD
TZOFFSETFROM:+1100
TZOFFSETTO:+1000
TZNAME:AEST
DTSTART:20270403T160000
END:STANDARD
BEGIN:DAYLIGHT
TZOFFSETFROM:+1000
TZOFFSETTO:+1100
TZNAME:AEDT
DTSTART:20271002T160000
END:DAYLIGHT
BEGIN:STANDARD
TZOFFSETFROM:+1100
TZOFFSETTO:+1000
TZNAME:AEST
DTSTART:20280401T160000
END:STANDARD
BEGIN:DAYLIGHT
TZOFFSETFROM:+1000
TZOFFSETTO:+1100
TZNAME:AEDT
DTSTART:20280930T160000
END:DAYLIGHT
END:VTIMEZONE
BEGIN:VEVENT
DTSTART;VALUE=DATE:20260509
DTEND;VALUE=DATE:20260510
DTSTAMP:20260420T062054
CREATED:20260413T125606Z
LAST-MODIFIED:20260413T125606Z
UID:10000262-1778284800-1778371199@bennymartin.com.au
SUMMARY:Piano Shell Hire (White) - Ritz Carlton
DESCRIPTION:
URL:https://bennymartin.com.au/event/piano-shell-hire-white-ritz-carlton/
LOCATION:The Ritz-Carlton\, 650 Lonsdale St\, Melbourne\, Australia
END:VEVENT
BEGIN:VEVENT
DTSTART;TZID=Australia/Melbourne:20260528T183000
DTEND;TZID=Australia/Melbourne:20260528T233000
DTSTAMP:20260420T062054
CREATED:20260116T111718Z
LAST-MODIFIED:20260116T111718Z
UID:10000259-1779993000-1780011000@bennymartin.com.au
SUMMARY:White Piano Shell Hire - Pullman Hotel Albert Park
DESCRIPTION:
URL:https://bennymartin.com.au/event/white-piano-shell-hire-pullman-hotel-albert-park/
LOCATION:Pullman Hotel\, 65 Queens Rd\, Albert Park\, VIC\, 3004\, Australia
END:VEVENT
BEGIN:VEVENT
DTSTART;VALUE=DATE:20261014
DTEND;VALUE=DATE:20261015
DTSTAMP:20260420T062054
CREATED:20250121T102455Z
LAST-MODIFIED:20250121T102455Z
UID:10000233-1791936000-1792022399@bennymartin.com.au
SUMMARY:Wedding Ceremony & Canapes - Montsalvat (Piano only)
DESCRIPTION:
URL:https://bennymartin.com.au/event/wedding-ceremony-canapes-montsalvat-piano-only/
LOCATION:Montsalvat\, 7 Hillcrest Avenue\, Eltham\, VIC\, 3095\, Australia
END:VEVENT
BEGIN:VEVENT
DTSTART;TZID=Australia/Melbourne:20261212T160000
DTEND;TZID=Australia/Melbourne:20261212T180000
DTSTAMP:20260420T062054
CREATED:20260407T111209Z
LAST-MODIFIED:20260407T111247Z
UID:10000261-1797091200-1797098400@bennymartin.com.au
SUMMARY:Wedding Ceremony / Canapes - Rochford Winery
DESCRIPTION:
URL:https://bennymartin.com.au/event/wedding-ceremony-canapes-rochford-winery/
LOCATION:Rochford Wines Yarra Valley\, 878-880 Maroondah Hwy\, Coldstream\, VIC\, 3770\, Australia
END:VEVENT
BEGIN:VEVENT
DTSTART;TZID=Australia/Melbourne:20270313T153000
DTEND;TZID=Australia/Melbourne:20270313T180000
DTSTAMP:20260420T062054
CREATED:20250730T205047Z
LAST-MODIFIED:20250730T205047Z
UID:10000246-1804951800-1804960800@bennymartin.com.au
SUMMARY:Wedding Ceremony & Canapés (Piano/Cello)- Euroa Butter Factory
DESCRIPTION:
URL:https://bennymartin.com.au/event/wedding-ceremony-canapes-piano-cello-euroa-butter-factory/
LOCATION:Euroa Butter Factory\, 69 Boundary Rd N\, Euroa\, VIC\, 3666\, Australia
CATEGORIES:Wedding Ceremony & Canapés
END:VEVENT
BEGIN:VEVENT
DTSTART;TZID=Australia/Melbourne:20270501T144500
DTEND;TZID=Australia/Melbourne:20270501T153000
DTSTAMP:20260420T062054
CREATED:20250719T034340Z
LAST-MODIFIED:20250719T034340Z
UID:10000243-1809182700-1809185400@bennymartin.com.au
SUMMARY:Wedding Ceremony Piano & Cello (Montsalvat)
DESCRIPTION:
URL:https://bennymartin.com.au/event/wedding-ceremony-piano-cello-montsalvat/
LOCATION:Montsalvat\, 7 Hillcrest Avenue\, Eltham\, VIC\, 3095\, Australia
END:VEVENT
END:VCALENDAR