BEGIN:VCALENDAR
VERSION:2.0
PRODID:-//Benny Martin - ECPv6.15.18//NONSGML v1.0//EN
CALSCALE:GREGORIAN
METHOD:PUBLISH
X-WR-CALNAME:Benny Martin
X-ORIGINAL-URL:https://bennymartin.com.au
X-WR-CALDESC:Events for Benny Martin
REFRESH-INTERVAL;VALUE=DURATION:PT1H
X-Robots-Tag:noindex
X-PUBLISHED-TTL:PT1H
BEGIN:VTIMEZONE
TZID:Australia/Melbourne
BEGIN:STANDARD
TZOFFSETFROM:+1100
TZOFFSETTO:+1000
TZNAME:AEST
DTSTART:20180331T160000
END:STANDARD
BEGIN:DAYLIGHT
TZOFFSETFROM:+1000
TZOFFSETTO:+1100
TZNAME:AEDT
DTSTART:20181006T160000
END:DAYLIGHT
BEGIN:STANDARD
TZOFFSETFROM:+1100
TZOFFSETTO:+1000
TZNAME:AEST
DTSTART:20190406T160000
END:STANDARD
BEGIN:DAYLIGHT
TZOFFSETFROM:+1000
TZOFFSETTO:+1100
TZNAME:AEDT
DTSTART:20191005T160000
END:DAYLIGHT
BEGIN:STANDARD
TZOFFSETFROM:+1100
TZOFFSETTO:+1000
TZNAME:AEST
DTSTART:20200404T160000
END:STANDARD
BEGIN:DAYLIGHT
TZOFFSETFROM:+1000
TZOFFSETTO:+1100
TZNAME:AEDT
DTSTART:20201003T160000
END:DAYLIGHT
BEGIN:STANDARD
TZOFFSETFROM:+1100
TZOFFSETTO:+1000
TZNAME:AEST
DTSTART:20210403T160000
END:STANDARD
BEGIN:DAYLIGHT
TZOFFSETFROM:+1000
TZOFFSETTO:+1100
TZNAME:AEDT
DTSTART:20211002T160000
END:DAYLIGHT
BEGIN:STANDARD
TZOFFSETFROM:+1100
TZOFFSETTO:+1000
TZNAME:AEST
DTSTART:20220402T160000
END:STANDARD
BEGIN:DAYLIGHT
TZOFFSETFROM:+1000
TZOFFSETTO:+1100
TZNAME:AEDT
DTSTART:20221001T160000
END:DAYLIGHT
BEGIN:STANDARD
TZOFFSETFROM:+1100
TZOFFSETTO:+1000
TZNAME:AEST
DTSTART:20230401T160000
END:STANDARD
BEGIN:DAYLIGHT
TZOFFSETFROM:+1000
TZOFFSETTO:+1100
TZNAME:AEDT
DTSTART:20230930T160000
END:DAYLIGHT
END:VTIMEZONE
BEGIN:VEVENT
DTSTART;TZID=Australia/Melbourne:20220123T143000
DTEND;TZID=Australia/Melbourne:20220123T160000
DTSTAMP:20260423T124454
CREATED:20200707T120924Z
LAST-MODIFIED:20210824T073307Z
UID:10000189-1642948200-1642953600@bennymartin.com.au
SUMMARY:Wedding Ceremony - 23rd January 2022 @ Tatra Receptions (Piano Cello)
DESCRIPTION:
URL:https://bennymartin.com.au/event/wedding-ceremony-4th-september-2021-tatra-receptions-piano-cello/
LOCATION:Tatra Receptions\, 1401 Mount Dandenong Tourist Road\, Mount Dandnong\, VIC\, 3767\, Australia
END:VEVENT
BEGIN:VEVENT
DTSTART;TZID=Australia/Melbourne:20220121T153000
DTEND;TZID=Australia/Melbourne:20220121T183000
DTSTAMP:20260423T124454
CREATED:20211028T104905Z
LAST-MODIFIED:20211028T104905Z
UID:10000114-1642779000-1642789800@bennymartin.com.au
SUMMARY:Wedding Ceremony / Canapes - Montsalvat Eltham
DESCRIPTION:
URL:https://bennymartin.com.au/event/wedding-ceremony-canapes-montsalvat-eltham/
LOCATION:Montsalvat\, 7 Hillcrest Avenue\, Eltham\, VIC\, 3095\, Australia
END:VEVENT
BEGIN:VEVENT
DTSTART;TZID=Australia/Melbourne:20211015T163000
DTEND;TZID=Australia/Melbourne:20211015T190000
DTSTAMP:20260423T124454
CREATED:20200101T102359Z
LAST-MODIFIED:20201005T023038Z
UID:10000186-1634315400-1634324400@bennymartin.com.au
SUMMARY:Wedding Ceremony / Canapes Stones of the Yarra Valley October 15 2021 Piano Cello
DESCRIPTION:
URL:https://bennymartin.com.au/event/wedding-ceremony-canapes-stones-of-the-yarra-valley-october-23-2020-piano-cello/
LOCATION:Stones of the Yarra Valley\, 14 St Hubert’s Rd\, Coldstream\, VIC\, 3770\, Australia
END:VEVENT
BEGIN:VEVENT
DTSTART;TZID=Australia/Melbourne:20210522T123000
DTEND;TZID=Australia/Melbourne:20210522T140000
DTSTAMP:20260423T124454
CREATED:20190903T124849Z
LAST-MODIFIED:20200714T051535Z
UID:10000107-1621686600-1621692000@bennymartin.com.au
SUMMARY:Wedding Ceremony - St Dominics Catholic Church\, Camberwell
DESCRIPTION:
URL:https://bennymartin.com.au/event/wedding-ceremony-st-dominics-catholic-church-camberwell/
LOCATION:St Dominics Catholic Church\, 816 Riversdale Rd\, Camberwell\, VIC\, 3124\, Australia
END:VEVENT
BEGIN:VEVENT
DTSTART;TZID=Australia/Melbourne:20210508T173000
DTEND;TZID=Australia/Melbourne:20210508T183000
DTSTAMP:20260423T124454
CREATED:20210322T224158Z
LAST-MODIFIED:20210322T224158Z
UID:10000191-1620495000-1620498600@bennymartin.com.au
SUMMARY:Manor on High Wedding Canapes
DESCRIPTION:
URL:https://bennymartin.com.au/event/manor-on-high-wedding-canapes/
LOCATION:Manor on High\, 519 High St\, Epping\, VIC\, 3076\, Australia
END:VEVENT
BEGIN:VEVENT
DTSTART;TZID=Australia/Melbourne:20210417T160000
DTEND;TZID=Australia/Melbourne:20210421T170000
DTSTAMP:20260423T124454
CREATED:20200407T043253Z
LAST-MODIFIED:20200407T065105Z
UID:10000188-1618675200-1619024400@bennymartin.com.au
SUMMARY:Wedding Ceremony - Stones of the Yarra Valley (piano / cello)
DESCRIPTION:
URL:https://bennymartin.com.au/event/wedding-ceremony-stones-of-the-yarra-valley-piano-cello-tbc/
LOCATION:Stones of the Yarra Valley\, 14 St Hubert’s Rd\, Coldstream\, VIC\, 3770\, Australia
END:VEVENT
BEGIN:VEVENT
DTSTART;TZID=Australia/Melbourne:20210122T170000
DTEND;TZID=Australia/Melbourne:20210122T183000
DTSTAMP:20260423T124454
CREATED:20200128T024351Z
LAST-MODIFIED:20200804T120834Z
UID:10000187-1611334800-1611340200@bennymartin.com.au
SUMMARY:Wedding Ceremony / Canapes - Port Phillip Estate Red Hill Piano & Cello TBC
DESCRIPTION:
URL:https://bennymartin.com.au/event/wedding-ceremony-canapes-port-phillip-estate-red-hill-piano-cello-tbc/
LOCATION:Port Phillip Estate\, 263 Red Hill Rd\, Red Hill South\, VIC\, 3937\, Australia
END:VEVENT
BEGIN:VEVENT
DTSTART;TZID=Australia/Melbourne:20200321T163000
DTEND;TZID=Australia/Melbourne:20200321T180000
DTSTAMP:20260423T124454
CREATED:20190506T143549Z
LAST-MODIFIED:20191003T043824Z
UID:10000182-1584808200-1584813600@bennymartin.com.au
SUMMARY:Wedding Ceremony - Stones of the Yarra Valley
DESCRIPTION:
URL:https://bennymartin.com.au/event/wedding-ceremony-stones-yarra-valley-4/
LOCATION:Stones of the Yarra Valley\, 14 St Hubert’s Rd\, Coldstream\, VIC\, 3770\, Australia
END:VEVENT
BEGIN:VEVENT
DTSTART;TZID=Australia/Melbourne:20200308T150000
DTEND;TZID=Australia/Melbourne:20200308T163000
DTSTAMP:20260423T124454
CREATED:20191203T015757Z
LAST-MODIFIED:20191205T001103Z
UID:10000185-1583679600-1583685000@bennymartin.com.au
SUMMARY:Wedding Ceremony Piano & Cello 8th March 2020 St Peter & Paul's Church South Melbourne time tbc
DESCRIPTION:
URL:https://bennymartin.com.au/event/wedding-ceremony-piano-cello-8th-march-2020-st-peter-pauls-church-south-melbourne-time-tbc/
LOCATION:St Peter & Paul’s Church South Melbourne\, 377 Dorcas St\, South Melbourne VIC 3205\, South Melbourne\, VIC\, 3205\, Australia
END:VEVENT
BEGIN:VEVENT
DTSTART;TZID=Australia/Melbourne:20191230T100000
DTEND;TZID=Australia/Melbourne:20191230T113000
DTSTAMP:20260423T124454
CREATED:20191106T113949Z
LAST-MODIFIED:20191106T123122Z
UID:10000112-1577700000-1577705400@bennymartin.com.au
SUMMARY:Wedding Ceremony - Stones of the Yarra Valley (Piano & Cello)
DESCRIPTION:
URL:https://bennymartin.com.au/event/wedding-ceremony-stones-of-the-yarra-valley-piano-cello/
LOCATION:Stones of the Yarra Valley\, 14 St Hubert’s Rd\, Coldstream\, VIC\, 3770\, Australia
END:VEVENT
BEGIN:VEVENT
DTSTART;TZID=Australia/Melbourne:20191221T150000
DTEND;TZID=Australia/Melbourne:20191221T173000
DTSTAMP:20260423T124454
CREATED:20191022T014156Z
LAST-MODIFIED:20191022T014156Z
UID:10000111-1576940400-1576949400@bennymartin.com.au
SUMMARY:Wedding Ceremony and Canapes baby grand - Taylors Lakes
DESCRIPTION:
URL:https://bennymartin.com.au/event/wedding-ceremony-and-canapes-baby-grand-taylors-lakes/
LOCATION:Lakeside Receptions\, 65 Melton Highway\, Taylors Lakes\, VIC\, Australia
END:VEVENT
BEGIN:VEVENT
DTSTART;TZID=Australia/Melbourne:20191214T180000
DTEND;TZID=Australia/Melbourne:20191214T210000
DTSTAMP:20260423T124454
CREATED:20191119T032910Z
LAST-MODIFIED:20191119T032910Z
UID:10000113-1576346400-1576357200@bennymartin.com.au
SUMMARY:Wedding Reception Wattle Park (Piano only)
DESCRIPTION:
URL:https://bennymartin.com.au/event/wedding-reception-wattle-park-piano-only/
LOCATION:Wattle Park Chalet\, 1012 Riversdale Rd\,\, Surrey Hills\, 3127\, Australia
END:VEVENT
BEGIN:VEVENT
DTSTART;TZID=Australia/Melbourne:20191214T123000
DTEND;TZID=Australia/Melbourne:20191214T140000
DTSTAMP:20260423T124454
CREATED:20190630T023529Z
LAST-MODIFIED:20191003T043800Z
UID:10000105-1576326600-1576332000@bennymartin.com.au
SUMMARY:Wedding ceremony Montsalvat (Piano Violin)
DESCRIPTION:
URL:https://bennymartin.com.au/event/wedding-ceremony-montsalvat-piano-violin/
LOCATION:Montsalvat\, 7 Hillcrest Avenue\, Eltham\, VIC\, 3095\, Australia
CATEGORIES:Wedding Ceremony
END:VEVENT
BEGIN:VEVENT
DTSTART;TZID=Australia/Melbourne:20191207T143000
DTEND;TZID=Australia/Melbourne:20191207T190000
DTSTAMP:20260423T124454
CREATED:20190927T154130Z
LAST-MODIFIED:20191003T043719Z
UID:10000109-1575729000-1575745200@bennymartin.com.au
SUMMARY:Wedding Ceremony / Canapes - Linley Estate
DESCRIPTION:
URL:https://bennymartin.com.au/event/wedding-ceremony-canapes-linley-estate/
LOCATION:Linley Estate\, 723 Mt Dandenong Rd\,\, Kilsyth\, VIC\, 3137\, Australia
END:VEVENT
BEGIN:VEVENT
DTSTART;VALUE=DATE:20191206
DTEND;VALUE=DATE:20191207
DTSTAMP:20260423T124454
CREATED:20190927T154223Z
LAST-MODIFIED:20191003T043652Z
UID:10000110-1575590400-1575676799@bennymartin.com.au
SUMMARY:Unavaliable - Studio day
DESCRIPTION:
URL:https://bennymartin.com.au/event/unavaliable-studio-day/
LOCATION:VIC
END:VEVENT
BEGIN:VEVENT
DTSTART;TZID=Australia/Melbourne:20191102T183000
DTEND;TZID=Australia/Melbourne:20191102T233000
DTSTAMP:20260423T124454
CREATED:20190924T184613Z
LAST-MODIFIED:20191003T043630Z
UID:10000108-1572719400-1572737400@bennymartin.com.au
SUMMARY:40th Birthday Party Piano & Cello - Albion Hotel
DESCRIPTION:
URL:https://bennymartin.com.au/event/40th-birthday-party-piano-cello-albion-hotel/
LOCATION:Albion Hotel\, 327 Lonsdale St\, Dandenong\, VIC\, Australia
END:VEVENT
BEGIN:VEVENT
DTSTART;TZID=Australia/Melbourne:20191019T130000
DTEND;TZID=Australia/Melbourne:20191019T130000
DTSTAMP:20260423T124454
CREATED:20181211T003647Z
LAST-MODIFIED:20191003T043603Z
UID:10000175-1571490000-1571490000@bennymartin.com.au
SUMMARY:Wedding Ceremony Piano & Violin- St Pauls\, Coburg
DESCRIPTION:
URL:https://bennymartin.com.au/event/wedding-ceremony-piano-violin-st-pauls-coburg/
LOCATION:St Pauls Coburg\, 562 Sydney Rd\, Coburg\, VIC\, 3058\, Australia
END:VEVENT
BEGIN:VEVENT
DTSTART;TZID=Australia/Melbourne:20191013T093000
DTEND;TZID=Australia/Melbourne:20191013T113000
DTSTAMP:20260423T124454
CREATED:20190707T201054Z
LAST-MODIFIED:20191003T043540Z
UID:10000106-1570959000-1570966200@bennymartin.com.au
SUMMARY:Private event birthday kew
DESCRIPTION:
URL:https://bennymartin.com.au/event/private-event-birthday-kew/
LOCATION:VIC
END:VEVENT
BEGIN:VEVENT
DTSTART;TZID=Australia/Melbourne:20191006T163000
DTEND;TZID=Australia/Melbourne:20191006T180000
DTSTAMP:20260423T124454
CREATED:20190616T182744Z
LAST-MODIFIED:20191003T043510Z
UID:10000104-1570379400-1570384800@bennymartin.com.au
SUMMARY:Wedding Ceremony - Stones of the Yarra Valley (Piano & Violin)
DESCRIPTION:
URL:https://bennymartin.com.au/event/wedding-ceremony-stones-yarra-valley-piano-violin/
LOCATION:Stones of the Yarra Valley\, 14 St Hubert’s Rd\, Coldstream\, VIC\, 3770\, Australia
END:VEVENT
BEGIN:VEVENT
DTSTART;TZID=Australia/Melbourne:20190901T033000
DTEND;TZID=Australia/Melbourne:20190901T043000
DTSTAMP:20260423T124454
CREATED:20190613T220802Z
LAST-MODIFIED:20190613T222112Z
UID:10000183-1567308600-1567312200@bennymartin.com.au
SUMMARY:Wedding canapés - savoy
DESCRIPTION:
URL:https://bennymartin.com.au/event/wedding-canapes-savoy/
LOCATION:Savoy Hotel\, Little Collins St\, Melbourne\, Australia
END:VEVENT
BEGIN:VEVENT
DTSTART;TZID=Australia/Melbourne:20190707T013000
DTEND;TZID=Australia/Melbourne:20190707T030000
DTSTAMP:20260423T124454
CREATED:20190320T182813Z
LAST-MODIFIED:20190320T182813Z
UID:10000179-1562463000-1562468400@bennymartin.com.au
SUMMARY:Wedding Ceremony - Montsalvat (Piano\, Violin & Cello)
DESCRIPTION:
URL:https://bennymartin.com.au/event/wedding-ceremony-montsalvat-piano-violin-cello/
LOCATION:Montsalvat\, 7 Hillcrest Avenue\, Eltham\, VIC\, 3095\, Australia
END:VEVENT
BEGIN:VEVENT
DTSTART;TZID=Australia/Melbourne:20190616T220000
DTEND;TZID=Australia/Melbourne:20190616T233000
DTSTAMP:20260423T124454
CREATED:20190426T123700Z
LAST-MODIFIED:20190426T123744Z
UID:10000181-1560722400-1560727800@bennymartin.com.au
SUMMARY:Wedding Ceremony - Aviary\, Crown Towers (Cello\, Piano\, 3 x Violin)
DESCRIPTION:
URL:https://bennymartin.com.au/event/wedding-ceremony-aviary-crown-towers-cello-piano-3-x-violin/
LOCATION:Crown Aviary\, 8 Whiteman St\, Southbank\, VIC\, 3006\, Australia
END:VEVENT
BEGIN:VEVENT
DTSTART;TZID=Australia/Melbourne:20190610T000000
DTEND;TZID=Australia/Melbourne:20190610T010000
DTSTAMP:20260423T124454
CREATED:20190224T124102Z
LAST-MODIFIED:20190527T134912Z
UID:10000178-1560124800-1560128400@bennymartin.com.au
SUMMARY:Wedding ceremony - Tatra Receptions tbc
DESCRIPTION:
URL:https://bennymartin.com.au/event/wedding-ceremony-tatra-receptions-tbc/
LOCATION:Tatra Receptions\, 1401 Mount Dandenong Tourist Road\, Mount Dandnong\, VIC\, 3767\, Australia
END:VEVENT
BEGIN:VEVENT
DTSTART;TZID=Australia/Melbourne:20190602T053000
DTEND;TZID=Australia/Melbourne:20190602T083000
DTSTAMP:20260423T124454
CREATED:20190415T190853Z
LAST-MODIFIED:20190531T184221Z
UID:10000180-1559453400-1559464200@bennymartin.com.au
SUMMARY:Private Function Birthday
DESCRIPTION:
URL:https://bennymartin.com.au/event/private-function-birthday/
LOCATION:VIC
END:VEVENT
BEGIN:VEVENT
DTSTART;TZID=Australia/Melbourne:20190420T003000
DTEND;TZID=Australia/Melbourne:20190420T040000
DTSTAMP:20260423T124454
CREATED:20190128T011211Z
LAST-MODIFIED:20190213T235737Z
UID:10000176-1555720200-1555732800@bennymartin.com.au
SUMMARY:Wedding - Lakehouse Daylesford time tbc
DESCRIPTION:
URL:https://bennymartin.com.au/event/wedding-lakehouse-daylesford-time-tbc/
LOCATION:Lake House\, King St\, Daylesford\, VIC\, 3460\, Australia
END:VEVENT
BEGIN:VEVENT
DTSTART;TZID=Australia/Melbourne:20190413T010000
DTEND;TZID=Australia/Melbourne:20190413T030000
DTSTAMP:20260423T124454
CREATED:20181004T225940Z
LAST-MODIFIED:20181004T234215Z
UID:10000170-1555117200-1555124400@bennymartin.com.au
SUMMARY:Wedding Ceremony / Canapes - Piano/Violin Jack Rabbit\, Bellarine
DESCRIPTION:
URL:https://bennymartin.com.au/event/wedding-ceremony-canapes-piano-violin-jack-rabbit-bellarine/
LOCATION:Jack Rabbit\, 85 McAdams Ln\, Bellarine\, VIC\, 3221\, Australia
END:VEVENT
BEGIN:VEVENT
DTSTART;TZID=Australia/Melbourne:20190324T190000
DTEND;TZID=Australia/Melbourne:20190325T040000
DTSTAMP:20260423T124454
CREATED:20180308T103608Z
LAST-MODIFIED:20180311T122534Z
UID:10000160-1553454000-1553486400@bennymartin.com.au
SUMMARY:Wedding Ceremony/Canapes Piano Violin- Stones of the Yarra Valley
DESCRIPTION:
URL:https://bennymartin.com.au/event/wedding-ceremony-canapes-piano-violin-stones-yarra-valley/
LOCATION:Stones of the Yarra Valley\, 14 St Hubert’s Rd\, Coldstream\, VIC\, 3770\, Australia
END:VEVENT
BEGIN:VEVENT
DTSTART;TZID=Australia/Melbourne:20190315T033000
DTEND;TZID=Australia/Melbourne:20190315T043000
DTSTAMP:20260423T124454
CREATED:20190213T235348Z
LAST-MODIFIED:20190308T233408Z
UID:10000177-1552620600-1552624200@bennymartin.com.au
SUMMARY:Wedding Ceremony - Stones of the Yarra Valley time tbc
DESCRIPTION:
URL:https://bennymartin.com.au/event/wedding-ceremony-stones-yarra-valley-time-tbc/
LOCATION:Stones of the Yarra Valley\, 14 St Hubert’s Rd\, Coldstream\, VIC\, 3770\, Australia
END:VEVENT
BEGIN:VEVENT
DTSTART;TZID=Australia/Melbourne:20190309T003000
DTEND;TZID=Australia/Melbourne:20190309T020000
DTSTAMP:20260423T124454
CREATED:20181004T224939Z
LAST-MODIFIED:20181004T224939Z
UID:10000169-1552091400-1552096800@bennymartin.com.au
SUMMARY:Wedding Ceremony - George Ballroom\, St Kilda
DESCRIPTION:
URL:https://bennymartin.com.au/event/wedding-ceremony-george-ballroom-st-kilda/
LOCATION:The George Ballroom St Kilda\, 1/127-129 Fitzroy St\, St Kilda\, VIC\, 3182\, Australia
END:VEVENT
BEGIN:VEVENT
DTSTART;TZID=Australia/Melbourne:20190204T033000
DTEND;TZID=Australia/Melbourne:20190204T050000
DTSTAMP:20260423T124454
CREATED:20180529T115516Z
LAST-MODIFIED:20180529T124255Z
UID:10000165-1549251000-1549256400@bennymartin.com.au
SUMMARY:Wedding Ceremony - Stones of the yarra valley
DESCRIPTION:
URL:https://bennymartin.com.au/event/wedding-ceremony-stones-yarra-valley-2/
LOCATION:Stones of the Yarra Valley\, 14 St Hubert’s Rd\, Coldstream\, VIC\, 3770\, Australia
END:VEVENT
END:VCALENDAR