BEGIN:VCALENDAR
VERSION:2.0
PRODID:-//Benny Martin - ECPv6.15.18//NONSGML v1.0//EN
CALSCALE:GREGORIAN
METHOD:PUBLISH
X-ORIGINAL-URL:https://bennymartin.com.au
X-WR-CALDESC:Events for Benny Martin
REFRESH-INTERVAL;VALUE=DURATION:PT1H
X-Robots-Tag:noindex
X-PUBLISHED-TTL:PT1H
BEGIN:VTIMEZONE
TZID:Australia/Melbourne
BEGIN:STANDARD
TZOFFSETFROM:+1100
TZOFFSETTO:+1000
TZNAME:AEST
DTSTART:20240406T160000
END:STANDARD
BEGIN:DAYLIGHT
TZOFFSETFROM:+1000
TZOFFSETTO:+1100
TZNAME:AEDT
DTSTART:20241005T160000
END:DAYLIGHT
BEGIN:STANDARD
TZOFFSETFROM:+1100
TZOFFSETTO:+1000
TZNAME:AEST
DTSTART:20250405T160000
END:STANDARD
BEGIN:DAYLIGHT
TZOFFSETFROM:+1000
TZOFFSETTO:+1100
TZNAME:AEDT
DTSTART:20251004T160000
END:DAYLIGHT
BEGIN:STANDARD
TZOFFSETFROM:+1100
TZOFFSETTO:+1000
TZNAME:AEST
DTSTART:20260404T160000
END:STANDARD
BEGIN:DAYLIGHT
TZOFFSETFROM:+1000
TZOFFSETTO:+1100
TZNAME:AEDT
DTSTART:20261003T160000
END:DAYLIGHT
END:VTIMEZONE
BEGIN:VEVENT
DTSTART;TZID=Australia/Melbourne:20250125T153000
DTEND;TZID=Australia/Melbourne:20250125T183000
DTSTAMP:20260425T220756
CREATED:20240121T113809Z
LAST-MODIFIED:20240121T113809Z
UID:10000223-1737819000-1737829800@bennymartin.com.au
SUMMARY:Wedding Ceremony & Canapes (piano only incl baby grand) - Luminare
DESCRIPTION:
URL:https://bennymartin.com.au/event/wedding-ceremony-canapes-piano-only-incl-baby-grand-luminare/
LOCATION:Luminare South Melbourne\, York St & Browns Ln\, South Melbourne\, VIC\, 3205\, Australia
END:VEVENT
END:VCALENDAR