BEGIN:VCALENDAR
VERSION:2.0
PRODID:-//Benny Martin - ECPv6.15.18//NONSGML v1.0//EN
CALSCALE:GREGORIAN
METHOD:PUBLISH
X-ORIGINAL-URL:https://bennymartin.com.au
X-WR-CALDESC:Events for Benny Martin
REFRESH-INTERVAL;VALUE=DURATION:PT1H
X-Robots-Tag:noindex
X-PUBLISHED-TTL:PT1H
BEGIN:VTIMEZONE
TZID:Australia/Melbourne
BEGIN:STANDARD
TZOFFSETFROM:+1100
TZOFFSETTO:+1000
TZNAME:AEST
DTSTART:20240406T160000
END:STANDARD
BEGIN:DAYLIGHT
TZOFFSETFROM:+1000
TZOFFSETTO:+1100
TZNAME:AEDT
DTSTART:20241005T160000
END:DAYLIGHT
BEGIN:STANDARD
TZOFFSETFROM:+1100
TZOFFSETTO:+1000
TZNAME:AEST
DTSTART:20250405T160000
END:STANDARD
BEGIN:DAYLIGHT
TZOFFSETFROM:+1000
TZOFFSETTO:+1100
TZNAME:AEDT
DTSTART:20251004T160000
END:DAYLIGHT
BEGIN:STANDARD
TZOFFSETFROM:+1100
TZOFFSETTO:+1000
TZNAME:AEST
DTSTART:20260404T160000
END:STANDARD
BEGIN:DAYLIGHT
TZOFFSETFROM:+1000
TZOFFSETTO:+1100
TZNAME:AEDT
DTSTART:20261003T160000
END:DAYLIGHT
END:VTIMEZONE
BEGIN:VEVENT
DTSTART;VALUE=DATE:20250917
DTEND;VALUE=DATE:20250918
DTSTAMP:20260420T100822
CREATED:20250329T031734Z
LAST-MODIFIED:20250329T031734Z
UID:10000241-1758067200-1758153599@bennymartin.com.au
SUMMARY:Piano Shell Hire Black & White - Crown
DESCRIPTION:
URL:https://bennymartin.com.au/event/piano-shell-hire-black-white-crown-2/
LOCATION:Crown Paladium\, Level 1 Crown Towers\, Crown Melbourne 8 Whiteman St\, Southbank\, Melbourne\, VIC\, 3006\, Australia
END:VEVENT
BEGIN:VEVENT
DTSTART;TZID=Australia/Melbourne:20250920T103000
DTEND;TZID=Australia/Melbourne:20250920T120000
DTSTAMP:20260420T100822
CREATED:20250719T035055Z
LAST-MODIFIED:20250719T035055Z
UID:10000245-1758364200-1758369600@bennymartin.com.au
SUMMARY:Wedding Piano & Vocalist - Holy Eucharist Church
DESCRIPTION:
URL:https://bennymartin.com.au/event/wedding-piano-vocalist-holy-eucharist-church/
LOCATION:Holy Eucharist Church\, 1241 Dandenong Rd\, Malvern East\, VIC\, 3145\, Australia
END:VEVENT
BEGIN:VEVENT
DTSTART;VALUE=DATE:20250926
DTEND;VALUE=DATE:20250927
DTSTAMP:20260420T100822
CREATED:20250814T120410Z
LAST-MODIFIED:20250814T120410Z
UID:10000247-1758844800-1758931199@bennymartin.com.au
SUMMARY:Piano Hire - Hazel restaurant
DESCRIPTION:
URL:https://bennymartin.com.au/event/piano-hire-hazel-restaurant/
LOCATION:Hazel Restaurant\, 164 Flinders Lane\, Melbourne\, VIC\, 3000\, Australia
END:VEVENT
BEGIN:VEVENT
DTSTART;TZID=Australia/Melbourne:20250928T150000
DTEND;TZID=Australia/Melbourne:20250928T160000
DTSTAMP:20260420T100822
CREATED:20250417T083744Z
LAST-MODIFIED:20250417T083744Z
UID:10000242-1759071600-1759075200@bennymartin.com.au
SUMMARY:Wedding Ceremony (Piano only)  - Avalon Castle\, Cockatoo
DESCRIPTION:
URL:https://bennymartin.com.au/event/wedding-ceremony-piano-only-avalon-castle-cockatoo/
LOCATION:Avalon Castle\, 1 Flora Close Waratah Way\, Cockatoo\, VIC\, 3781\, Australia
END:VEVENT
END:VCALENDAR