BEGIN:VCALENDAR
VERSION:2.0
PRODID:-//Benny Martin - ECPv6.15.18//NONSGML v1.0//EN
CALSCALE:GREGORIAN
METHOD:PUBLISH
X-WR-CALNAME:Benny Martin
X-ORIGINAL-URL:https://bennymartin.com.au
X-WR-CALDESC:Events for Benny Martin
REFRESH-INTERVAL;VALUE=DURATION:PT1H
X-Robots-Tag:noindex
X-PUBLISHED-TTL:PT1H
BEGIN:VTIMEZONE
TZID:Australia/Melbourne
BEGIN:STANDARD
TZOFFSETFROM:+1100
TZOFFSETTO:+1000
TZNAME:AEST
DTSTART:20250405T160000
END:STANDARD
BEGIN:DAYLIGHT
TZOFFSETFROM:+1000
TZOFFSETTO:+1100
TZNAME:AEDT
DTSTART:20251004T160000
END:DAYLIGHT
BEGIN:STANDARD
TZOFFSETFROM:+1100
TZOFFSETTO:+1000
TZNAME:AEST
DTSTART:20260404T160000
END:STANDARD
BEGIN:DAYLIGHT
TZOFFSETFROM:+1000
TZOFFSETTO:+1100
TZNAME:AEDT
DTSTART:20261003T160000
END:DAYLIGHT
BEGIN:STANDARD
TZOFFSETFROM:+1100
TZOFFSETTO:+1000
TZNAME:AEST
DTSTART:20270403T160000
END:STANDARD
BEGIN:DAYLIGHT
TZOFFSETFROM:+1000
TZOFFSETTO:+1100
TZNAME:AEDT
DTSTART:20271002T160000
END:DAYLIGHT
END:VTIMEZONE
BEGIN:VEVENT
DTSTART;TZID=Australia/Melbourne:20260207T171500
DTEND;TZID=Australia/Melbourne:20260207T183000
DTSTAMP:20260420T012017
CREATED:20240605T124358Z
LAST-MODIFIED:20240605T124421Z
UID:10000227-1770484500-1770489000@bennymartin.com.au
SUMMARY:Wedding Ceremony - Farm Vigano (Piano only incl baby grand hire)
DESCRIPTION:
URL:https://bennymartin.com.au/event/wedding-ceremony-farm-vigano-piano-only-incl-baby-grand-hire/
LOCATION:Farm Vigano\, 10 Bushmans Way\, South Morang\, VIC\, 3752\, Australia
END:VEVENT
END:VCALENDAR